BEGIN:VCALENDAR
VERSION:2.0
PRODID:-//Vulcan Riders Croatia ch.385//NONSGML kigkonsult.se iCalcreator 2
 .30.10//
CALSCALE:GREGORIAN
METHOD:PUBLISH
UID:e803887a-555b-4559-9d3d-522c68df8985
X-WR-CALNAME:iCagenda
X-WR-CALDESC:Event Management Extension for Joomla!
X-WR-RELCALID:3E26604A-50F4-4449-8B3E-E4F4932D05B5
X-WR-TIMEZONE:Europe/Zagreb
BEGIN:VTIMEZONE
TZID:Europe/Zagreb
BEGIN:STANDARD
TZNAME:CET
DTSTART:20251026T030000
TZOFFSETFROM:+0200
TZOFFSETTO:+0100
RDATE:20261025T030000
RDATE:20271031T030000
END:STANDARD
BEGIN:DAYLIGHT
TZNAME:CEST
DTSTART:20260329T020000
TZOFFSETFROM:+0100
TZOFFSETTO:+0200
RDATE:20270328T020000
END:DAYLIGHT
END:VTIMEZONE
BEGIN:VEVENT
UID:8e5fb209-b1d7-46fd-9bfd-c8045ed93108
DTSTAMP:20260423T084157Z
CATEGORIES:local moto party
CLASS:PUBLIC
DESCRIPTION:
DTSTART:20260501T030000Z
DTEND:20260501T030000Z
GEO:+45.898685;+16.842197
LOCATION:
ORGANIZER:
SEQUENCE:1
SUMMARY:MOTO BUDNICA 1.maj 2026
TRANSP:OPAQUE
URL:https://www.vulcanriders.com.hr/dogadanja/12-moto-budnica-1-maj-2026/20
 26-05-01-05-00
END:VEVENT
END:VCALENDAR
